BEGIN:VCALENDAR
VERSION:2.0
PRODID:-//wp-events-plugin.com//7.2.3.1//EN
BEGIN:VEVENT
UID:6-1441@association360.ch
DTSTART:20211119T190000Z
DTEND:20211119T190000Z
DTSTAMP:20210922T072502Z
URL:https://association360.ch/groupe-bi/agenda/636/
SUMMARY:Réunion conviviale du Groupe BiPan+ de 360
DESCRIPTION:Retrouvons-nous pour notre réunion mensuelle le vendredi 19 no
 vembre à 20h dans nos locaux au 36\, rue de la Navigation.\n\nInfos: bip
 anplus@association360.ch ou par tél. 079 632 70 48\n\nDepuis sa créati
 on en 2004\, le groupe BiPan+ a pour vocation d’assurer l’écoute\, le
  partage et le soutien des personnes concernées par la bisexualité et la
  pansexualité.  Le groupe BiPan+ propose une réunion conviviale tous le
 s 3e vendredi du mois\, des sorties\, des soirées-jeux\, une permanence t
 éléphonique et des entretiens individuels. Il offre un lieu de rencontre
  bienveillant et sûr et donne aussi la possibilité de s’engager dans d
 es activités donnant de la visibilité à la communauté BiPan+.
END:VEVENT
END:VCALENDAR