BEGIN:VCALENDAR
VERSION:2.0
PRODID:-//wp-events-plugin.com//7.2.3.1//EN
BEGIN:VEVENT
UID:6-249@association360.ch
DTSTART:20141219T190000Z
DTEND:20141219T190000Z
DTSTAMP:20141209T160343Z
URL:https://association360.ch/groupe-bi/agenda/bi-et-trans-noel/
SUMMARY:Bi et Trans Noël
DESCRIPTION:Grand pic-nic canadien et soirée dansante!\n\nApportez un bon 
 petit quelque chose à manger:
LOCATION:Association 360\, 36\, rue de la Navigation\, Genève\, 1201\, Sui
 sse
GEO:46.2126763;6.14632030000007
X-APPLE-STRUCTURED-LOCATION;VALUE=URI;X-ADDRESS=36\, rue de la Navigation\,
  Genève\, 1201\, Suisse;X-APPLE-RADIUS=100;X-TITLE=Association 360:geo:46
 .2126763,6.14632030000007
END:VEVENT
END:VCALENDAR