BEGIN:VCALENDAR
VERSION:2.0
PRODID:-//wp-events-plugin.com//7.2.3.1//EN
BEGIN:VEVENT
UID:6-204@association360.ch
DTSTART:20140927T120000Z
DTEND:20140927T120000Z
DTSTAMP:20140909T100209Z
URL:https://association360.ch/groupe-bi/agenda/festival-everybodys-perfect
 -film-le-sexe-des-anges-2/
SUMMARY:Festival Everybody’s Perfect – Film «Le Sexe Des Anges»
DESCRIPTION:Dans le cadre du festival du film LGBTIQA Everybody’s Perfect
 \n\nLe Sexe Des Anges (El Sexo De Los Angeles)\n\nL’amour est souvent un
  vrai ballet\, une danse fait de pas en avant et en arrière\, d’élans 
 et d’hésitations. Le petit couple de Carla et Bruno tout semble être u
 ni pour une histoire toute tracée. Pourtant leurs convictions vont voler 
 en éclats le jour où Rai\, jeune danseur\, squateur et électron libre\,
  va croiser le regard de Bruno. L’amitié des deux hommes\, l’évoluti
 on de leur relation\, sans compter les sentiments forts et le charme de Ca
 rla\, feront tourner ce manège à la recherche de règles rares auxquelle
 s ils peuvent obéir. Le Triangle amoureux\, complexe et cinématographiqu
 ement souvent exploité\, trouve ici une fraîcheur et une positivité apa
 isante.\n\nRéalisation: Xavier Villaverde / Espagne / 2011 / 105’ / vo 
 espagnol\, st. Français\n\nCe film passe également le vendredi 19 septem
 bre à 21h45 Salle Simon\n\nToutes les infos et programme sur www.everybo
 dysperfect.ch
LOCATION:Les Cinémas du Grütli\, rue du Général-Dufour 16\, Genève\, 1
 204 Genève\, Suisse
GEO:46.20110649999999;6.1416326999999455
X-APPLE-STRUCTURED-LOCATION;VALUE=URI;X-ADDRESS=rue du Général-Dufour 16\
 , Genève\, 1204 Genève\, Suisse;X-APPLE-RADIUS=100;X-TITLE=Les Cinémas 
 du Grütli:geo:46.20110649999999,6.1416326999999455
END:VEVENT
END:VCALENDAR