BEGIN:VCALENDAR
VERSION:2.0
PRODID:-//wp-events-plugin.com//7.2.3.1//EN
BEGIN:VEVENT
UID:6-644@association360.ch
DTSTART:20161216T183000Z
DTEND:20161217T010000Z
DTSTAMP:20161124T142033Z
URL:https://association360.ch/groupe-bi/agenda/fete-de-noel-des-groupes-bi
 -et-trans-buffet-canadien-et-disco/
SUMMARY:Fête de Noël des groupes Bi et Trans\, buffet canadien et disco!
DESCRIPTION:Nous faisons notre petite fête de Noël avec le Groupe Trans d
 e 360!\n\nComme chaque année nous organisons un buffet canadien dans une 
 ambiance festive\, en musique avec une playlist que vous pouvez composer (
 envoyez des propositions de morceaux sur trans@360.ch).\n\nAmenez un petit
  quelque chose de sympa à manger et/ou à boire\, et à partager!\n\nPlus
  d'infos par mail : bi@360.ch ou par tél. 079 632 70 48
LOCATION:Association 360\, 36\, rue de la Navigation\, Genève\, 1201\, Sui
 sse
GEO:46.2126763;6.14632030000007
X-APPLE-STRUCTURED-LOCATION;VALUE=URI;X-ADDRESS=36\, rue de la Navigation\,
  Genève\, 1201\, Suisse;X-APPLE-RADIUS=100;X-TITLE=Association 360:geo:46
 .2126763,6.14632030000007
END:VEVENT
END:VCALENDAR