BEGIN:VCALENDAR
VERSION:2.0
PRODID:-//wp-events-plugin.com//7.2.3.1//EN
BEGIN:VEVENT
UID:6-1442@association360.ch
DTSTART:20210923T180000Z
DTEND:20210923T210000Z
DTSTAMP:20210922T121627Z
URL:https://association360.ch/groupe-bi/agenda/journee-de-la-visibilite-bi
 -2/
SUMMARY:Journée de La Visibilité Bi
DESCRIPTION:La Journée de La Visibilité Bi organisée par BiPan+ de 360\n
 \nLe jeudi 23 septembre 2021e 18 à 21h\, à l'Espace Lissignol\, 8 rue Li
 ssignol\, réunion du groupe BiPan+\, à l'occasion de la Journée Interna
 tionale de la Visibilité Bi. Ateliers\, musique et buffet canadien.\n\nEn
  raison des restrictions sanitaires\, inscriptions obligatoires à  bipa
 nplus@association360.ch ou par tél. 079 632 70 48
END:VEVENT
END:VCALENDAR