BEGIN:VCALENDAR
VERSION:2.0
PRODID:-//wp-events-plugin.com//7.2.3.1//EN
BEGIN:VEVENT
UID:6-589@association360.ch
DTSTART:20160923T180000Z
DTEND:20160923T180000Z
DTSTAMP:20160916T115659Z
URL:https://association360.ch/groupe-bi/agenda/journee-de-la-visibilite-bi
 -rencontre-a-berne/
SUMMARY:Journée de la Visibilité Bi - Rencontre à Berne
DESCRIPTION:Rencontre à Berne à l'occasion de la Journée Internationale 
 de la Visibilité Bi!\n\nSoirée resto au Restaurant O Bolles à Berne\, a
 vec les groupes Bi de Berne\, Bâle\, Zürich et Genève.\n\nVous êtes le
 s bienvenu-e-s!\n\n
ATTACH;FMTTYPE=image/jpeg:https://association360.ch/groupe-bi/wp-content/u
 ploads/sites/6/2016/09/bi-visibility-day-2015.jpg
LOCATION:Restaurant O Bolles\, Bollwerk 35\, 3011 Bern\, Suisse
GEO:46.95151449999999;7.441483000000062
X-APPLE-STRUCTURED-LOCATION;VALUE=URI;X-ADDRESS=Bollwerk 35\, 3011 Bern\, S
 uisse;X-APPLE-RADIUS=100;X-TITLE=Restaurant O Bolles:geo:46.95151449999999
 ,7.441483000000062
END:VEVENT
END:VCALENDAR