BEGIN:VCALENDAR
VERSION:2.0
PRODID:-//wp-events-plugin.com//7.2.3.1//EN
BEGIN:VEVENT
UID:6-1016@association360.ch
DTSTART:20181214T180000Z
DTEND:20181214T180000Z
DTSTAMP:20181127T081816Z
URL:https://association360.ch/groupe-bi/agenda/noel-des-groupes-bi-et-tran
 s/
SUMMARY:Noël des groupes Bi et Trans*
DESCRIPTION:Vendredi 14 décembre dès 19h\, Noël des Groupes Bi et Trans*
 : buffet et fête !\n\nAu local de l'association: 36\, rue de la Navigati
 on - 1201 Genève\n\nPlus d'infos par mail : bi@360.ch ou par tél. 079
  632 70 48
LOCATION:Association 360\, 36\, rue de la Navigation\, Genève\, 1201\, Sui
 sse
X-APPLE-STRUCTURED-LOCATION;VALUE=URI;X-ADDRESS=36\, rue de la Navigation\,
  Genève\, 1201\, Suisse;X-APPLE-RADIUS=100;X-TITLE=Association 360:geo:0,
 0
END:VEVENT
END:VCALENDAR