BEGIN:VCALENDAR
VERSION:2.0
PRODID:-//wp-events-plugin.com//7.2.3.1//EN
BEGIN:VEVENT
UID:6-1172@association360.ch
DTSTART:20191220T173000Z
DTEND:20191220T173000Z
DTSTAMP:20191128T092006Z
URL:https://association360.ch/groupe-bi/agenda/petit-noel-des-groupes-bi-e
 t-trans/
SUMMARY:Petit Noël des groupes Bi et Trans
DESCRIPTION:Nous faisons notre petite fête de Noël avec le Groupe Trans d
 e 360 dès 18h30\n\nComme chaque année nous organisons un buffet canadien
  dans une ambiance festive.\n\nAmenez un petit quelque chose de sympa à m
 anger et/ou à boire\, et à partager!\n\nPlus d'infos par mail : bi@360.
 ch ou par tél. 079 632 70 48
LOCATION:Association 360\, 36\, rue de la Navigation\, Genève\, 1201\, Sui
 sse
X-APPLE-STRUCTURED-LOCATION;VALUE=URI;X-ADDRESS=36\, rue de la Navigation\,
  Genève\, 1201\, Suisse;X-APPLE-RADIUS=100;X-TITLE=Association 360:geo:0,
 0
END:VEVENT
END:VCALENDAR