BEGIN:VCALENDAR
VERSION:2.0
PRODID:-//wp-events-plugin.com//7.2.3.1//EN
BEGIN:VEVENT
UID:6-1584@association360.ch
DTSTART:20221216T180000Z
DTEND:20221216T180000Z
DTSTAMP:20221125T101231Z
URL:https://association360.ch/groupe-bi/agenda/petit-noel-du-groupe-bipan-
 et-des-autres-groupes-de-360/
SUMMARY:Petit Noël du Groupe BiPan+ et des autres Groupes de 360 - Toutes\
 , tous\, touxtes ensemble
DESCRIPTION:
END:VEVENT
END:VCALENDAR