BEGIN:VCALENDAR
VERSION:2.0
PRODID:-//wp-events-plugin.com//7.2.3.1//EN
BEGIN:VEVENT
UID:6-1832@association360.ch
DTSTART:20240920T200000Z
DTEND:20240920T200000Z
DTSTAMP:20240712T122659Z
URL:https://association360.ch/groupe-bi/agenda/retrouvons-nous-pour-notre-
 reunion-mensuelle-le-vendredi-16-aout-a-20h-dans-nos-locaux-au-36-rue-de-l
 a-navigation-infos-bipanplusassociation360-ch-ou-par-tel-079-632-70-48-dep
 uis/
SUMMARY:Réunion conviviale du groupe BiPan+ de 360
DESCRIPTION:Retrouvons-nous pour notre réunion mensuelle le vendredi 20 se
 ptembre à 20h dans nos locaux au 36\, rue de la Navigation.\n\nInfos: bi
 panplus@association360.ch ou par tél. 079 632 70 48\n\nDepuis sa créat
 ion en 2004\, le groupe BiPan+ a pour vocation d’assurer l’écoute\, l
 e partage et le soutien des personnes concernées par la bisexualité et l
 a pansexualité.  Le groupe BiPan+ propose une réunion conviviale tous l
 es 3e vendredi du mois\, des sorties\, des soirées-jeux\, une permanence 
 téléphonique et des entretiens individuels. Il offre un lieu de rencontr
 e bienveillant et sûr et donne aussi la possibilité de s’engager dans 
 des activités donnant de la visibilité à la communauté BiPan+.
END:VEVENT
END:VCALENDAR