BEGIN:VCALENDAR
VERSION:2.0
PRODID:-//wp-events-plugin.com//7.2.3.1//EN
BEGIN:VEVENT
UID:6-1239@association360.ch
DTSTART:20200417T190000Z
DTEND:20200417T190000Z
DTSTAMP:20200415T103624Z
URL:https://association360.ch/groupe-bi/agenda/reunion-conviviale-12/
SUMMARY:Réunion conviviale en visioconférence
DESCRIPTION:Retrouvons-nous à 20h pour un moment d'échange\, à distance 
 mais convivial quand-même!\n\nAccès à la réunion: auprès de Michel  
 bi@360.ch ou par tél. 079 632 70 48
ATTACH;FMTTYPE=image/jpeg:https://association360.ch/groupe-bi/wp-content/u
 ploads/sites/6/2020/02/lumieres.jpg
END:VEVENT
END:VCALENDAR