BEGIN:VCALENDAR
VERSION:2.0
PRODID:-//wp-events-plugin.com//7.2.3.1//EN
BEGIN:VEVENT
UID:6-1240@association360.ch
DTSTART:20200515T190000Z
DTEND:20200515T190000Z
DTSTAMP:20200501T080056Z
URL:https://association360.ch/groupe-bi/agenda/reunion-conviviale-13/
SUMMARY:Réunion conviviale en visioconférence
DESCRIPTION:Retrouvons-nous à 20h pour un moment d'échange\, à distance 
 mais convivial quand-même!\n\nAccès à la réunion: auprès de Michel  
 bi@360.ch ou par tél. 079 632 70 48
END:VEVENT
END:VCALENDAR