BEGIN:VCALENDAR
VERSION:2.0
PRODID:-//wp-events-plugin.com//7.2.3.1//EN
BEGIN:VEVENT
UID:6-1268@association360.ch
DTSTART:20200821T190000Z
DTEND:20200821T190000Z
DTSTAMP:20200707T070156Z
URL:https://association360.ch/groupe-bi/agenda/reunion-conviviale-22/
SUMMARY:Réunion conviviale
DESCRIPTION:Réunion mensuelle dès 20h dans nos locaux au 36\, rue de la N
 avigation.\n\nPlus d'infos par mail : bi@360.ch ou par tél. 079 632 70
  48
END:VEVENT
END:VCALENDAR