BEGIN:VCALENDAR
VERSION:2.0
PRODID:-//wp-events-plugin.com//7.2.3.1//EN
BEGIN:VEVENT
UID:6-1369@association360.ch
DTSTART:20210521T190000Z
DTEND:20210521T190000Z
DTSTAMP:20210427T071051Z
URL:https://association360.ch/groupe-bi/agenda/reunion-conviviale-23/
SUMMARY:Réunion conviviale
DESCRIPTION:Réunion mensuelle dès 20h dans nos locaux au 36\, rue de la N
 avigation et aussi par Visio-conférence (demander le lien par mail).\n\nP
 lus d'infos par mail : bi@360.ch ou par tél. 079 632 70 48
END:VEVENT
END:VCALENDAR