BEGIN:VCALENDAR
VERSION:2.0
PRODID:-//wp-events-plugin.com//7.2.3.1//EN
BEGIN:VEVENT
UID:6-1476@association360.ch
DTSTART:20220318T200000Z
DTEND:20220318T200000Z
DTSTAMP:20220224T114425Z
URL:https://association360.ch/groupe-bi/agenda/reunion-conviviale-du-group
 e-bipan-de-360-10/
SUMMARY:Réunion conviviale du groupe BiPan+ de 360
DESCRIPTION:Retrouvons-nous pour notre réunion mensuelle le vendredi 18 ma
 rs à 20h dans nos locaux au 36\, rue de la Navigation à Genève.\n\nInfo
 s: bipanplus@association360.ch ou par tél. 079 632 70 48\n\nDepuis sa 
 création en 2004\, le groupe BiPan+ a pour vocation d’assurer l’écou
 te\, le partage et le soutien des personnes concernées par la bisexualit
 é et la pansexualité.  Le groupe BiPan+ propose une réunion conviviale
  tous les 3e vendredi du mois\, des sorties\, des soirées-jeux\, une perm
 anence téléphonique et des entretiens individuels. Il offre un lieu de r
 encontre bienveillant et sûr et donne aussi la possibilité de s’engage
 r dans des activités donnant de la visibilité à la communauté BiPan+.
END:VEVENT
END:VCALENDAR