BEGIN:VCALENDAR
VERSION:2.0
PRODID:-//wp-events-plugin.com//7.2.3.1//EN
BEGIN:VEVENT
UID:6-1634@association360.ch
DTSTART:20230317T200000Z
DTEND:20230317T200000Z
DTSTAMP:20230210T120101Z
URL:https://association360.ch/groupe-bi/agenda/reunion-conviviale-du-group
 e-bipan-de-360-16/
SUMMARY:Réunion conviviale du Groupe BiPan+ de 360
DESCRIPTION:Retrouvons-nous pour notre réunion mensuelle le vendredi 17 ma
 rs à 20h dans nos locaux au 36\, rue de la Navigation.\n\nInfos: bipanpl
 us@association360.ch ou par tél. 079 632 70 48\n\nDepuis sa création e
 n 2004\, le groupe BiPan+ a pour vocation d’assurer l’écoute\, le par
 tage et le soutien des personnes concernées par la bisexualité et la pan
 sexualité.  Le groupe BiPan+ propose une réunion conviviale tous les 3e
  vendredi du mois\, des sorties\, des soirées-jeux\, une permanence tél
 éphonique et des entretiens individuels. Il offre un lieu de rencontre bi
 enveillant et sûr et donne aussi la possibilité de s’engager dans des 
 activités donnant de la visibilité à la communauté BiPan+.
END:VEVENT
END:VCALENDAR