BEGIN:VCALENDAR
VERSION:2.0
PRODID:-//wp-events-plugin.com//7.2.3.1//EN
BEGIN:VEVENT
UID:6-1804@association360.ch
DTSTART:20240119T200000Z
DTEND:20240119T200000Z
DTSTAMP:20240117T135343Z
URL:https://association360.ch/groupe-bi/agenda/reunion-conviviale-du-group
 e-bipan-de-360-21/
SUMMARY:Réunion conviviale du groupe BiPan+ de 360
DESCRIPTION:Retrouvons-nous pour notre réunion mensuelle le vendredi 19 j
 anvier à 20h dans nos locaux au 36\, rue de la Navigation.\nInfos: bipa
 nplus@association360.ch ou par tél. 079 632 70 48\nDepuis sa création 
 en 2004\, le groupe BiPan+ a pour vocation d’assurer l’écoute\, le pa
 rtage et le soutien des personnes concernées par la bisexualité et la pa
 nsexualité.  Le groupe BiPan+ propose une réunion conviviale tous le
 s 3e vendredi du mois\, des sorties\, des soirées-jeux\, une permanen
 ce téléphonique et des entretiens individuels. Il offre un lieu de renc
 ontre bienveillant et sûr et donne aussi la possibilité de s’engager d
 ans des activités donnant de la visibilité à la communauté BiPan+.\n
END:VEVENT
END:VCALENDAR