BEGIN:VCALENDAR
VERSION:2.0
PRODID:-//wp-events-plugin.com//7.2.3.1//EN
BEGIN:VEVENT
UID:6-1808@association360.ch
DTSTART:20240315T200000Z
DTEND:20240315T200000Z
DTSTAMP:20240205T130446Z
URL:https://association360.ch/groupe-bi/agenda/reunion-conviviale-du-group
 e-bipan-de-360-23/
SUMMARY:Réunion conviviale du groupe BiPan+ de 360
DESCRIPTION:Retrouvons-nous pour notre réunion mensuelle le vendredi 15 ma
 rs à 20h dans nos locaux au 36\, rue de la Navigation.\nInfos: bipanplu
 s@association360.ch ou par tél. 079 632 70 48\nDepuis sa création en 2
 004\, le groupe BiPan+ a pour vocation d’assurer l’écoute\, le partag
 e et le soutien des personnes concernées par la bisexualité et la pansex
 ualité.  Le groupe BiPan+ propose une réunion conviviale tous les 3e
  vendredi du mois\, des sorties\, des soirées-jeux\, une permanence t
 éléphonique et des entretiens individuels. Il offre un lieu de rencontr
 e bienveillant et sûr et donne aussi la possibilité de s’engager dans 
 des activités donnant de la visibilité à la communauté BiPan+.\n
END:VEVENT
END:VCALENDAR