BEGIN:VCALENDAR
VERSION:2.0
PRODID:-//wp-events-plugin.com//7.2.3.1//EN
BEGIN:VEVENT
UID:6-1830@association360.ch
DTSTART:20240719T200000Z
DTEND:20240719T200000Z
DTSTAMP:20240712T122443Z
URL:https://association360.ch/groupe-bi/agenda/reunion-conviviale-du-group
 e-bipan-de-360-25/
SUMMARY:Réunion conviviale du groupe BiPan+ de 360
DESCRIPTION:Retrouvons-nous pour notre réunion mensuelle le vendredi 19 ju
 illet à 20h dans nos locaux au 36\, rue de la Navigation.\n\nInfos: bipa
 nplus@association360.ch ou par tél. 079 632 70 48\n\nDepuis sa créatio
 n en 2004\, le groupe BiPan+ a pour vocation d’assurer l’écoute\, le 
 partage et le soutien des personnes concernées par la bisexualité et la 
 pansexualité.  Le groupe BiPan+ propose une réunion conviviale tous les
  3e vendredi du mois\, des sorties\, des soirées-jeux\, une permanence t
 éléphonique et des entretiens individuels. Il offre un lieu de rencontre
  bienveillant et sûr et donne aussi la possibilité de s’engager dans d
 es activités donnant de la visibilité à la communauté BiPan+.
END:VEVENT
END:VCALENDAR