BEGIN:VCALENDAR
VERSION:2.0
PRODID:-//wp-events-plugin.com//7.2.3.1//EN
BEGIN:VEVENT
UID:6-1850@association360.ch
DTSTART:20241220T000000Z
DTEND:20241220T000000Z
DTSTAMP:20241011T141739Z
URL:https://association360.ch/groupe-bi/agenda/reunion-conviviale-du-group
 e-bipan-de-360-29/
SUMMARY:Réunion conviviale du groupe BiPan+ de 360
DESCRIPTION:Retrouvons-nous pour notre réunion mensuelle le vendredi 20 d
 écembre à 20h dans nos locaux au 36\, rue de la Navigation.\nInfos: bi
 panplus@association360.ch ou par tél. 079 632 70 48\nDepuis sa créatio
 n en 2004\, le groupe BiPan+ a pour vocation d’assurer l’écoute\, le 
 partage et le soutien des personnes concernées par la bisexualité et la 
 pansexualité.  Le groupe BiPan+ propose une réunion conviviale tous 
 les 3e vendredi du mois\, des sorties\, des soirées-jeux\, une perman
 ence téléphonique et des entretiens individuels. Il offre un lieu de re
 ncontre bienveillant et sûr et donne aussi la possibilité de s’engager
  dans des activités donnant de la visibilité à la communauté BiPan+.
END:VEVENT
END:VCALENDAR