BEGIN:VCALENDAR
VERSION:2.0
PRODID:-//wp-events-plugin.com//7.2.3.1//EN
BEGIN:VEVENT
UID:6-1308@association360.ch
DTSTART:20201120T190000Z
DTEND:20201120T210000Z
DTSTAMP:20201111T134342Z
URL:https://association360.ch/groupe-bi/agenda/reunion-conviviale-du-group
 e-bipan-de-360-3/
SUMMARY:Réunion conviviale du Groupe BiPan+ de 360
DESCRIPTION:Réunion mensuelle dès 20h dans nos locaux au 36\, rue de la N
 avigation.\n\nPossibilité de rejoindre la réunion en Visio-conférence\n
 \nInfos et inscriptions obligatoires : bipanplus@association360.ch ou par
  tél. 079 632 70 48
END:VEVENT
END:VCALENDAR