BEGIN:VCALENDAR
VERSION:2.0
PRODID:-//wp-events-plugin.com//7.2.3.1//EN
BEGIN:VEVENT
UID:6-1320@association360.ch
DTSTART:20201218T190000Z
DTEND:20201218T190000Z
DTSTAMP:20201125T141342Z
URL:https://association360.ch/groupe-bi/agenda/reunion-conviviale-du-group
 e-bipan-de-360-4/
SUMMARY:Réunion conviviale du Groupe BiPan+ de 360
DESCRIPTION:Réunion mensuelle dès 20h dans nos locaux au 36\, rue de la N
 avigation.\n\nPour des raisons sanitaires\, maximum 5 personnes. Possibil
 ité de rejoindre la réunion en Visio-conférence\n\nInfos et inscription
 s obligatoires : bipanplus@association360.ch ou par tél. 079 632 70 48
 \n\n&nbsp\;
END:VEVENT
END:VCALENDAR