BEGIN:VCALENDAR
VERSION:2.0
PRODID:-//wp-events-plugin.com//7.2.3.1//EN
BEGIN:VEVENT
UID:6-1635@association360.ch
DTSTART:20230421T190000Z
DTEND:20230421T190000Z
DTSTAMP:20230210T120217Z
URL:https://association360.ch/groupe-bi/agenda/reunion-conviviales-du-grou
 pe-bipan-de-360/
SUMMARY:Réunion conviviales du Groupe BiPan+ de 360
DESCRIPTION:Retrouvons-nous pour notre réunion mensuelle le vendredi 21 av
 ril à 20h dans nos locaux au 36\, rue de la Navigation.\n\nInfos: bipanp
 lus@association360.ch ou par tél. 079 632 70 48\n\nDepuis sa création 
 en 2004\, le groupe BiPan+ a pour vocation d’assurer l’écoute\, le pa
 rtage et le soutien des personnes concernées par la bisexualité et la pa
 nsexualité.  Le groupe BiPan+ propose une réunion conviviale tous les 3
 e vendredi du mois\, des sorties\, des soirées-jeux\, une permanence tél
 éphonique et des entretiens individuels. Il offre un lieu de rencontre bi
 enveillant et sûr et donne aussi la possibilité de s’engager dans des 
 activités donnant de la visibilité à la communauté BiPan+.
END:VEVENT
END:VCALENDAR