BEGIN:VCALENDAR
VERSION:2.0
PRODID:-//wp-events-plugin.com//7.2.3.1//EN
BEGIN:VEVENT
UID:6-1249@association360.ch
DTSTART:20200403T180000Z
DTEND:20200403T180000Z
DTSTAMP:20200218T091124Z
URL:https://association360.ch/groupe-bi/agenda/soiree-jeux-ou-sortie-2/
SUMMARY:Soirée jeux ou sortie
DESCRIPTION:Rendez-vous à 19h dans nos locaux au 36\, rue de la Navigation
 .\n\nPlus d'infos par mail : bi@360.ch ou par tél. 079 632 70 48
LOCATION:Association 360\, 36\, rue de la Navigation\, Genève\, 1201\, Sui
 sse
X-APPLE-STRUCTURED-LOCATION;VALUE=URI;X-ADDRESS=36\, rue de la Navigation\,
  Genève\, 1201\, Suisse;X-APPLE-RADIUS=100;X-TITLE=Association 360:geo:0,
 0
END:VEVENT
END:VCALENDAR