BEGIN:VCALENDAR
VERSION:2.0
PRODID:-//wp-events-plugin.com//7.2.3.1//EN
BEGIN:VEVENT
UID:5-574@association360.ch
DTSTART:20160920T160000Z
DTEND:20160920T160000Z
DTSTAMP:20160822T123243Z
URL:https://association360.ch/tamalou/agenda/apero-du-mardi-102/
SUMMARY:Apéro du mardi
DESCRIPTION:Pour connaître le lieu de l'apéro\, infos par mail: tamalou@
 360.ch ou par téléphone 022 741 00 70
END:VEVENT
END:VCALENDAR