BEGIN:VCALENDAR
VERSION:2.0
PRODID:-//wp-events-plugin.com//7.2.3.1//EN
BEGIN:VEVENT
UID:5-992@association360.ch
DTSTART:20181127T160000Z
DTEND:20181127T160000Z
DTSTAMP:20181022T092726Z
URL:https://association360.ch/tamalou/agenda/apero-du-mardi-214/
SUMMARY:Apéro du mardi
DESCRIPTION:
END:VEVENT
END:VCALENDAR