BEGIN:VCALENDAR
VERSION:2.0
PRODID:-//wp-events-plugin.com//7.2.3.1//EN
BEGIN:VEVENT
UID:5-1535@association360.ch
DTSTART:20220719T173000Z
DTEND:20220719T220000Z
DTSTAMP:20220715T141338Z
URL:https://association360.ch/tamalou/agenda/apero-du-mardi-272/
SUMMARY:Apéro du mardi
DESCRIPTION:Chaque mardi dès 17h30\, les Tamalou se retrouvent pour faire 
 l'apéro et partager un moment convivial. Pour connaître le lieu de renco
 ntre\, qui varie selon les envies du moment\, contactez André Lauper à l
 'adresse andr.lauper@yahoo.com qui vous intégrera au groupe whatsapp.\n\n
ATTACH;FMTTYPE=image/jpeg:https://association360.ch/tamalou/wp-content/upl
 oads/sites/5/2022/07/PHOTO-2022-07-07-08-43-07.jpg
END:VEVENT
END:VCALENDAR