BEGIN:VCALENDAR
VERSION:2.0
PRODID:-//wp-events-plugin.com//7.2.3.1//EN
BEGIN:VEVENT
UID:5-483@association360.ch
DTSTART:20160329T160000Z
DTEND:20160329T160000Z
DTSTAMP:20160223T164027Z
URL:https://association360.ch/tamalou/agenda/apero-du-mardi-77/
SUMMARY:Apéro du mardi
DESCRIPTION:Pour connaître le lieu de l'apéro\, infos par mail: tamalou@
 360.ch ou par téléphone 076 519 46 83
END:VEVENT
END:VCALENDAR