BEGIN:VCALENDAR
VERSION:2.0
PRODID:-//wp-events-plugin.com//7.2.3.1//EN
BEGIN:VEVENT
UID:5-905@association360.ch
DTSTART:20180523T173000Z
DTEND:20180523T173000Z
DTSTAMP:20180501T071037Z
URL:https://association360.ch/tamalou/agenda/buffet-canadien-15/
SUMMARY:Lestime invite les groupes Tamalou et lesbiennes séniors de 360
DESCRIPTION:Dans le cadre de la Campagne «Pouvoir être soi à tout âge»
  de la Ville de Genève\, Lestime accueille dans ses locaux le groupe Tama
 lou\, le groupe des ainées lesbiennes de 360\, ainsi que Geneviève\, Mar
 ie-Claire\, Claudette\, Lynn et tous les visages de la campagne pour un ap
 éritif léger\, suivi d’une projection (film surprise à découvrir).\n
 \nLa soirée se poursuivra autour d’un repas préparé par Amala\, une a
 ssociation multiculturelle d’alimentation d’ailleurs créée par des f
 emmes migrantes\, et sera l’occasion d’échanges riches et enrichissan
 ts.\n\nMercredi 23 mai\nDès 18h30\nLestime\, rue de l'Industrie 5\, Genè
 ve\n\nSoirée ouverte à toutes et tous\, sur réservation avant le 14 mai
 \, à info@lestime.ch\n\nOrganisé dans le cadre de la Campagne contre l'
 homophobie et la transphobie 2018 de la Ville de Genève
LOCATION:Lestime\, Rue de l'Industrie 5\,\, Genève\, Suisse
GEO:46.2102504;6.137993400000028
X-APPLE-STRUCTURED-LOCATION;VALUE=URI;X-ADDRESS=Rue de l'Industrie 5\,\, Ge
 nève\, Suisse;X-APPLE-RADIUS=100;X-TITLE=Lestime:geo:46.2102504,6.1379934
 00000028
END:VEVENT
END:VCALENDAR