BEGIN:VCALENDAR
VERSION:2.0
PRODID:-//wp-events-plugin.com//7.2.3.1//EN
BEGIN:VEVENT
UID:5-1064@association360.ch
DTSTART:20190328T180000Z
DTEND:20190328T180000Z
DTSTAMP:20190321T154434Z
URL:https://association360.ch/tamalou/agenda/buffet-canadien-au-local-de-3
 60/
SUMMARY:Buffet canadien au local de 360
DESCRIPTION:A tous ceux qui ne se bronzeraient pas aux Canaries ou en Afriq
 ue ce jour-là\, vous êtes cordialement conviés au repas canadien des T
 amalou\n\nQuand? Le jeudi 28 mars dès 19 heures\nOù? Au local de 360 (36
 \, rue de la Navigation)\n\nComme d'hab avec votre bonne humeur et quelque
  chose à grignoter ou a siroter.\n\nAndré
END:VEVENT
END:VCALENDAR