BEGIN:VCALENDAR
VERSION:2.0
PRODID:-//wp-events-plugin.com//7.2.3.1//EN
BEGIN:VEVENT
UID:5-701@association360.ch
DTSTART:20170606T133000Z
DTEND:20170606T150000Z
DTSTAMP:20170327T082830Z
URL:https://association360.ch/tamalou/agenda/conference-debat-cite-seniors
 -lentrepreneuriat-et-le-developpement-des-besoins-des-seniors/
SUMMARY:Conférence-débat Cité Séniors: L'entrepreneuriat et le dévelop
 pement des besoins des seniors
DESCRIPTION:Conférence-débat organisée par Cité Séniors\n\nCycle de c
 onférences avec Me Dan Fuochi\, avocat et Président de l’association 
 AUXILIUS\, Me Catarina Monteiro Santos et Me Sara Perez\, avocates\, et M
 e Frank Merlon\, notaire\, membres du comité d’AUXILIUS.\n\nL’associ
 ation AUXILIUS a pour but le soutien et la protection juridique des perso
 nnes âgées et des personnes en situation de handicap.\n\nTout le progra
 mme en cliquant ici\n\n
LOCATION:Cité Séniors\, Rue de Lausanne 62 - Rue Amat 28\, Genève\, 1202
 \, Suisse
GEO:46.2150591;6.147040699999934
X-APPLE-STRUCTURED-LOCATION;VALUE=URI;X-ADDRESS=Rue de Lausanne 62 - Rue Am
 at 28\, Genève\, 1202\, Suisse;X-APPLE-RADIUS=100;X-TITLE=Cité Séniors:
 geo:46.2150591,6.147040699999934
END:VEVENT
END:VCALENDAR