BEGIN:VCALENDAR
VERSION:2.0
PRODID:-//wp-events-plugin.com//7.2.3.1//EN
BEGIN:VEVENT
UID:5-1030@association360.ch
DTSTART:20190128T180000Z
DTEND:20190128T180000Z
DTSTAMP:20190118T083500Z
URL:https://association360.ch/tamalou/agenda/fondue-aux-bains-des-paquis/
SUMMARY:Fondue aux bains des Pâquis
DESCRIPTION:Pour changer et pour mieux braver les frimas de l'hiver\, quelq
 ues calories s'imposent!\n\nNous vous proposons une soirée fondue aux bai
 ns des Pâquis le lundi 28 janvier des 19h00.\nInscriptions \nMerci de co
 nfirmer votre participation par mail à André andr.lauper@yahoo.com.\nPou
 r ceux qui voudraient profiter du sauna\, on pourrait se retrouver vers 17
 h00. Munissez-vous d'une serviette de bain .\n\nAu plaisir de vous revoir 
 nombreux à nos activités\nAndré
END:VEVENT
END:VCALENDAR