BEGIN:VCALENDAR
VERSION:2.0
PRODID:-//wp-events-plugin.com//7.2.3.1//EN
BEGIN:VEVENT
UID:5-363@association360.ch
DTSTART:20150810T120000Z
DTEND:20150810T120000Z
DTSTAMP:20150629T131427Z
URL:https://association360.ch/tamalou/agenda/grillade-ou-pique-nique-au-ve
 ngeron/
SUMMARY:Grillade ou pique-nique au Vengeron
DESCRIPTION:Inscriptions avant avant vendredi 07 août par mail: tamalou@
 360.ch ou par téléphone 076 519 46 83
LOCATION:Plage du Vengeron\, Route de Lausanne 284\, Chambésy\, Suisse
GEO:46.2455203;6.1531124000000545
X-APPLE-STRUCTURED-LOCATION;VALUE=URI;X-ADDRESS=Route de Lausanne 284\, Cha
 mbésy\, Suisse;X-APPLE-RADIUS=100;X-TITLE=Plage du Vengeron:geo:46.245520
 3,6.1531124000000545
END:VEVENT
END:VCALENDAR