BEGIN:VCALENDAR
VERSION:2.0
PRODID:-//wp-events-plugin.com//7.2.3.1//EN
BEGIN:VEVENT
UID:5-1106@association360.ch
DTSTART:20190701T110000Z
DTEND:20190701T110000Z
DTSTAMP:20190612T125256Z
URL:https://association360.ch/tamalou/agenda/grillades-au-vengeron-2/
SUMMARY:Grillades au Vengeron
DESCRIPTION:L'été est de retour!\n\nTradition oblige\, à nouveau\, Vince
 nt nous organisera de succulentes grillades le lundi 1er juillet à la Pla
 ge du Vengeron à midi\n\nInscrivez-vous avant la fin juin par mail auprè
 s d'André andr.lauper@yahoo.com.\nPrenez vos slips de bain\, vos pliants 
 et votre bonne humeur.\n\nPour y aller: train direction Coppet\, arrêt Ch
 ambésy + 5 min à pied.\n\nReport en cas de météo incertaine prière de
  m'appeler le matin au 022 345 60 12
END:VEVENT
END:VCALENDAR