BEGIN:VCALENDAR
VERSION:2.0
PRODID:-//wp-events-plugin.com//7.2.3.1//EN
BEGIN:VEVENT
UID:5-1529@association360.ch
DTSTART;VALUE=DATE:20220625
DTEND;VALUE=DATE:20220626
DTSTAMP:20220614T104222Z
URL:https://association360.ch/tamalou/agenda/les-tamalou-a-bulle-pour-la-p
 ride-2022/
SUMMARY:Les Tamalou à Bulle pour la Pride 2022
DESCRIPTION:Le groupe des Tamalou s'organise pour partir le 25 juin depuis 
 Genève pour assister à la Pride 2022\, qui se déroule dans la ville de 
 Bulle dans le Canton de Fribourg. Le départ du train choisi est à 10h42 
 et le début de la marche des fiertés commence à l'avenue de la Gare. Ve
 nez célébrer avec eux !\n\nPour toute information supplémentaire\, n'h
 ésitez pas à les contacter à l'adresse tamalou@association360.ch\n\n
ATTACH;FMTTYPE=image/jpeg:https://association360.ch/tamalou/wp-content/upl
 oads/sites/5/2022/06/gay-g57417cd67_1920.jpg
LOCATION:https://www.google.ch/maps/place/Av.+de+la+Gare,+1630+Bulle/@46.61
 78056,7.0541692,17z/data=!3m1!4b1!4m5!3m4!1s0x478e6262b67ff913:0x3456c7335
 d980aa1!8m2!3d46.6178019!4d7.0563632
END:VEVENT
END:VCALENDAR