BEGIN:VCALENDAR
VERSION:2.0
PRODID:-//wp-events-plugin.com//7.2.3.1//EN
BEGIN:VEVENT
UID:5-1301@association360.ch
DTSTART:20200824T100000Z
DTEND:20200824T200000Z
DTSTAMP:20200817T083931Z
URL:https://association360.ch/tamalou/agenda/les-tamalou-en-sortie-aux-roc
 hers-de-nayes/
SUMMARY:Les Tamalou en sortie aux Rochers-de-Nayes
DESCRIPTION:Réservez la date du lundi 24 août\, ce magnifique balcon sur 
 le Léman et les Alpes environnantes nous attend.\nGenève\, départ du tr
 ain (direction Lausanne-Brig) à 10h12.\nArrivées aux Rochers-de-Naye à 
 12h06.\nRetour en début de soirée.\n\nPrix du billet de train aller-reto
 ur: CHF 50.– (avec le pass réduction Mobilis Vaud) + repas au restauran
 t.\n\nIMPORTANT: inscrivez-vous jusqu'au 17 août afin que je vous command
 e ce pass.\n\nJe me réjouis de vous revoir tous dans la bonne humeur.\n\n
 André
ATTACH;FMTTYPE=image/jpeg:https://association360.ch/tamalou/wp-content/upl
 oads/sites/5/2020/08/rochers-de-nayes.jpeg
END:VEVENT
END:VCALENDAR