BEGIN:VCALENDAR
VERSION:2.0
PRODID:-//wp-events-plugin.com//7.2.3.1//EN
BEGIN:VEVENT
UID:5-686@association360.ch
DTSTART;VALUE=DATE:20170315
DTEND;VALUE=DATE:20170316
DTSTAMP:20170312T194826Z
URL:https://association360.ch/tamalou/agenda/les-tamalous-en-goguette-a-ly
 on-en-bus/
SUMMARY:Les Tamalous en goguette à Lyon en bus !
DESCRIPTION:Repas à la Brasserie Georges\, visite de la Ville\, etc.\nInsc
 ription auprès d'André : andr.lauper@yahoo.com
END:VEVENT
END:VCALENDAR