BEGIN:VCALENDAR
VERSION:2.0
PRODID:-//wp-events-plugin.com//7.2.3.1//EN
BEGIN:VEVENT
UID:5-1138@association360.ch
DTSTART;VALUE=DATE:20190928
DTEND;VALUE=DATE:20190929
DTSTAMP:20190909T115029Z
URL:https://association360.ch/tamalou/agenda/pique-nique-des-tamalou-3/
SUMMARY:Pique-Nique des Tamalou
DESCRIPTION:Inscriptions par mail: andr.lauper@yahoo.com\n\n\n\n&nbsp\;
END:VEVENT
END:VCALENDAR