BEGIN:VCALENDAR
VERSION:2.0
PRODID:-//wp-events-plugin.com//7.2.3.1//EN
BEGIN:VEVENT
UID:5-674@association360.ch
DTSTART:20170215T230000Z
DTEND:20170216T210000Z
DTSTAMP:20170209T102107Z
URL:https://association360.ch/tamalou/agenda/repas-canadien-4/
SUMMARY:Repas canadien
DESCRIPTION:Le jeudi 16 février à 19h se tiendra notre repas canadien da
 ns le local de notre association.\n\nChacun apporte un plat ou à boire  
 ou les deux.\n\nSans inscription préalable.
LOCATION:Association 360\, 36\, rue de la Navigation\, Genève\, 1201\, Sui
 sse
GEO:46.2126763;6.14632030000007
X-APPLE-STRUCTURED-LOCATION;VALUE=URI;X-ADDRESS=36\, rue de la Navigation\,
  Genève\, 1201\, Suisse;X-APPLE-RADIUS=100;X-TITLE=Association 360:geo:46
 .2126763,6.14632030000007
END:VEVENT
END:VCALENDAR