BEGIN:VCALENDAR
VERSION:2.0
PRODID:-//wp-events-plugin.com//7.2.3.1//EN
BEGIN:VEVENT
UID:5-1024@association360.ch
DTSTART:20181227T180000Z
DTEND:20181227T180000Z
DTSTAMP:20181218T084926Z
URL:https://association360.ch/tamalou/agenda/repas-canadien-de-fete/
SUMMARY:Repas canadien de fête
DESCRIPTION:
END:VEVENT
END:VCALENDAR