BEGIN:VCALENDAR
VERSION:2.0
PRODID:-//wp-events-plugin.com//7.2.3.1//EN
BEGIN:VEVENT
UID:5-935@association360.ch
DTSTART:20180628T180000Z
DTEND:20180628T180000Z
DTSTAMP:20180615T093759Z
URL:https://association360.ch/tamalou/agenda/repas-canadien-sur-terasse/
SUMMARY:Repas canadien sur terasse
DESCRIPTION:Le jeudi 28 juin\, Nicolas nous met à disposition sa magnifiqu
 e terrasse pour un repas canadien. Un grand merci à lui.\n\nRéservez cet
 te date. André Lauper sera absent jusqu'au 23 juin mais vous pouvez conta
 cter directement Nicolas par mail pour avoir plus d'infos: burnandn@yahoo
 .com.
END:VEVENT
END:VCALENDAR