BEGIN:VCALENDAR
VERSION:2.0
PRODID:-//wp-events-plugin.com//7.2.3.1//EN
BEGIN:VEVENT
UID:5-875@association360.ch
DTSTART:20180319T183000Z
DTEND:20180319T183000Z
DTSTAMP:20180309T082659Z
URL:https://association360.ch/tamalou/agenda/repas-typiquement-savoyard/
SUMMARY:Repas typiquement savoyard
DESCRIPTION:Les Tamalou vous convient à un repas typiquement savoyard le l
 undi 19 mars vers 19h30 au Restaurant l'Ari à Gaillard (près de Moillesu
 laz).\n\nAu menu\nLe «Farcement» fameuse spécialité locale\n\nAvec que
 l budget\nEnviron 40-45 euros boissons comprises\n\nComment y aller\nPour 
 ceux qui n'ont pas de voiture\, rendez-vous à 19h à la douane de Moilles
 ulaz\n\nDélai d'inscription\nAndré attend vos inscriptions par mail andr
 .lauper@yahoo.com jusqu'au 15 mars\n\nPlus d'infos par téléphone 022 
 741 00 70\n\nAu plaisir de vous revoir nombreux à nos activités\n\nConsu
 lter aussi la page facebook du groupe Tamalou
LOCATION:Restaurant L'Arvi\, 5\, rue de la Ville\, Gaillard\, 74240\, Franc
 e
GEO:46.1827043;6.212550800000031
X-APPLE-STRUCTURED-LOCATION;VALUE=URI;X-ADDRESS=5\, rue de la Ville\, Gaill
 ard\, 74240\, France;X-APPLE-RADIUS=100;X-TITLE=Restaurant L'Arvi:geo:46.1
 827043,6.212550800000031
END:VEVENT
END:VCALENDAR