BEGIN:VCALENDAR
VERSION:2.0
PRODID:-//wp-events-plugin.com//7.2.3.1//EN
BEGIN:VEVENT
UID:5-911@association360.ch
DTSTART:20180515T170000Z
DTEND:20180515T190000Z
DTSTAMP:20180511T101832Z
URL:https://association360.ch/tamalou/agenda/seniors-lgbt-et-sexualite-com
 ment-conserver-une-vie-amoureuse-et-sexuelle/
SUMMARY:Seniors LGBT et sexualité: Comment conserver une vie amoureuse et 
 sexuelle?
DESCRIPTION:L’amour et la sexualité des seniors sont des tabous qui se r
 enforcent encore lorsque l’on a une orientation sexuelle et/ou une ident
 ité de genre minoritaires. Pourtant l’un comme l’autre sont légitime
 s et participent à un équilibre de vie sain et favorable à la santé da
 ns tous ses aspects. La communauté LGBT est de plus particulièrement exp
 osée\, notamment parce qu'elle est stigmatisée\, à des problèmes de sa
 nté psychique\, souvent renforcés par l’isolement qui peut s’install
 er avec l’âge.\n\nLors de cette rencontre\, les intervenantes et interv
 enants vous donneront des pistes et répondront à vos questions sur les m
 oyens de conserver une vie affective et sexuelle\, particulièrement quand
  on est LGBT.\n\nRencontre-débat avec :\n\n 	Marie-Hélène Stauffacher\,
  Psychologue\, spécialiste FSP - Sexologue clinicienne - Sexo-analyste 
 – Consultante\n 	Pierre-Alain Nicod\, Spécialiste en médecine généra
 le et en sexologie\n 	Judith Aregger\, Coordinatrice Boulevard – Formatr
 ice assistant sexuel\n 	André Lauper\, Responsable du groupe Tamalou de l
 'Association 360\n\nModération: Abdurahman Mah\, Chargé de projets en sa
 nté gaie à Dialogai.
LOCATION:Dialogai\, 11-13 rue de la Navigation\, Genève\, Suisse
GEO:46.2119747;6.147905100000003
X-APPLE-STRUCTURED-LOCATION;VALUE=URI;X-ADDRESS=11-13 rue de la Navigation\
 , Genève\, Suisse;X-APPLE-RADIUS=100;X-TITLE=Dialogai:geo:46.2119747,6.14
 7905100000003
END:VEVENT
END:VCALENDAR