BEGIN:VCALENDAR
VERSION:2.0
PRODID:-//wp-events-plugin.com//7.2.3.1//EN
BEGIN:VEVENT
UID:5-987@association360.ch
DTSTART:20181022T180000Z
DTEND:20181022T180000Z
DTSTAMP:20181003T075153Z
URL:https://association360.ch/tamalou/agenda/soiree-fondue-au-cafe-de-la-l
 imite/
SUMMARY:Soirée fondue au Café de la Limite
DESCRIPTION:Le café de la Limite attend les Tamalou le lundi 22 octobre d
 ès 19h pour notre traditionnelle fondue automnale.\n\nInscriptions\nAndr
 é attend vos inscriptions avec impatience par mail andr.lauper@yahoo.com
 .\nAttention le nombre de place est limité à 20 personnes\n\nConsulter a
 ussi la page facebook du groupe Tamalou\n\n
END:VEVENT
END:VCALENDAR