BEGIN:VCALENDAR
VERSION:2.0
PRODID:-//wp-events-plugin.com//7.2.3.1//EN
BEGIN:VEVENT
UID:5-1123@association360.ch
DTSTART;VALUE=DATE:20190727
DTEND;VALUE=DATE:20190728
DTSTAMP:20190716T115856Z
URL:https://association360.ch/tamalou/agenda/sortie-a-chanby/
SUMMARY:Sortie à Chamby - Train à vapeur et visite du Musée
DESCRIPTION:Nous vous proposons une sortie à Chamby - Train à vapeur et v
 isite du Musée la journée du samedi 27 juillet.\n\nDéparte de Genève 
 à 10h12\nArrivée à Blonay à 11h25 (via Vevey\n\nA vous d'acheter indiv
 iduellement un billet Genève-Blonay retour - prix chf 33.20 (1/2 tarif)\n
 \nLe parcours en train-vapeur + la visite du musée coûte chf 22.-\n\nJ'a
 ttends vos nombreuses inscriptions par mail: andr.lauper@yahoo.com. et fa
 it à tous les Tamalou une amicale bise.\n\nAndré
END:VEVENT
END:VCALENDAR