BEGIN:VCALENDAR
VERSION:2.0
PRODID:-//wp-events-plugin.com//7.2.3.1//EN
BEGIN:VEVENT
UID:5-884@association360.ch
DTSTART;VALUE=DATE:20180419
DTEND;VALUE=DATE:20180420
DTSTAMP:20180321T125604Z
URL:https://association360.ch/tamalou/agenda/sortie-a-lausanne-et-visite-d
 aquatis/
SUMMARY:Sortie à Lausanne et visite d'Aquatis
DESCRIPTION:Les Tamalou vous convient à une sortie Lausanne et visite d'Aq
 uatis\, le nouvel aquarium\, vivarium.\n\nLes infos sur les horaires et pr
 ogramme seront bientôt disponibles.\n\nVous pouvez déjà vous inscrire a
 uprès d'André par mail andr.lauper@yahoo.com.\n\nAu plaisir de vous revo
 ir nombreux à nos activités\n\nConsulter aussi la page facebook du group
 e Tamalou
END:VEVENT
END:VCALENDAR