BEGIN:VCALENDAR
VERSION:2.0
PRODID:-//wp-events-plugin.com//7.2.3.1//EN
BEGIN:VEVENT
UID:5-1310@association360.ch
DTSTART:20201021T150000Z
DTEND:20201021T210000Z
DTSTAMP:20201019T074611Z
URL:https://association360.ch/tamalou/agenda/sortie-au-bain-bleu/
SUMMARY:Sortie au Bain bleu
DESCRIPTION:Chers amis Tamalou\,\nVous comprendrez\, qu'en raison du covid 
 et du renforcement des mesures sanitaires\, nous annulions la sortie à Ma
 chilly\, en espérant la reporter à une date meilleure.\nNous nous ferons
  quand même du bien en nous payant un sauna et hammam aux "Bain Bleu"\nRe
 ndez-vous devant Genève-Plage\, mercredi 21 octobre\, à 16 h 00.\npuis n
 ous irons manger des roestis ou autre dans un lieu à préciser.\nBon week
 -end à vous tous.\nAndré
ATTACH;FMTTYPE=image/jpeg:https://association360.ch/tamalou/wp-content/upl
 oads/sites/5/2020/10/bainbleu.jpg
END:VEVENT
END:VCALENDAR