BEGIN:VCALENDAR
VERSION:2.0
PRODID:-//wp-events-plugin.com//7.2.3.1//EN
BEGIN:VEVENT
UID:5-958@association360.ch
DTSTART;VALUE=DATE:20180823
DTEND;VALUE=DATE:20180824
DTSTAMP:20180813T100349Z
URL:https://association360.ch/tamalou/agenda/sortie-et-visite-du-chateau-d
 e-prangins-musee-national-suisse/
SUMMARY:Sortie et visite du Château de Prangins - Musée national Suisse
DESCRIPTION:Les Tamalou vous convient à une sortie au Château de Prangins
  pour une visite du musée et du parc\n\n\nInfo trajet aller\nDépart en t
 rain de Genève à 10h30\, arrivée à Nyon à 10h44\nPuis bus direction P
 rangins Musée dép. 11h01\nVeuillez prendre vos billets\n\n\nRepas\nRepas
  ou pique-nique sur place (selon temps) .\n\n\nInfo trajet retour\nPar bea
 u temps retour par bateau\nDép. Nyon à 17h10\,  arrivée à Genève 18h
 30\n\n\nInscriptions \nMerci de confirmer votre participation par mail à
  André andr.lauper@yahoo.com.Au plaisir de vous revoir nombreux à nos ac
 tivités\n\n\nConsulter aussi la page facebook du groupe Tamalou
END:VEVENT
END:VCALENDAR