BEGIN:VCALENDAR
VERSION:2.0
PRODID:-//wp-events-plugin.com//7.2.3.1//EN
BEGIN:VEVENT
UID:5-458@association360.ch
DTSTART:20160208T180000Z
DTEND:20160208T180000Z
DTSTAMP:20160118T140806Z
URL:https://association360.ch/tamalou/agenda/traditionnelle-fondu/
SUMMARY:Traditionnelle fondue
DESCRIPTION:Dès 19h rendez-vous pour une délicieuse fondue au Café de l
 a Limite (11 rue des Charmilles)\n\nInscription avant le vendredi 5 févri
 er à 18h par mail: tamalou@360.ch ou par téléphone 076 519 46 83
LOCATION:Café La Limite\, 11 rue des Charmilles \, Genève\, 1203\, Suisse
GEO:46.20647899999999;6.130062500000008
X-APPLE-STRUCTURED-LOCATION;VALUE=URI;X-ADDRESS=11 rue des Charmilles \, Ge
 nève\, 1203\, Suisse;X-APPLE-RADIUS=100;X-TITLE=Café La Limite:geo:46.20
 647899999999,6.130062500000008
END:VEVENT
END:VCALENDAR