BEGIN:VCALENDAR
VERSION:2.0
PRODID:-//wp-events-plugin.com//7.2.3.1//EN
BEGIN:VEVENT
UID:5-1079@association360.ch
DTSTART;VALUE=DATE:20190502
DTEND;VALUE=DATE:20190503
DTSTAMP:20190424T071933Z
URL:https://association360.ch/tamalou/agenda/viree-touristique-et-gastrono
 mique-a-annecy/
SUMMARY:Virée touristique et gastronomique à Annecy!
DESCRIPTION:Inscriptions \nPar mail auprès d'André andr.lauper@yahoo.com
 .
END:VEVENT
END:VCALENDAR